BEGIN:VCALENDAR
VERSION:2.0
PRODID:-//eventon.com NONSGML v1.0//EN
CALSCALE:GREGORIAN
METHOD:PUBLISH
BEGIN:VEVENT
UID:69e620361ce3a
DTSTAMP:20260420T124646Z
DTSTART:20251120
DTEND:20251121
LOCATION:
SUMMARY:Meeskonna juhtimine tarneahelajuhile
DESCRIPTION:Meeskonna juhtimine on Tarneahelajuhi arenguprogrammi teine moo
 dul. Samas on see iseseisev ja terviklik käsitlus\,  mida võib kuulata er
 aldi koolitusena. Inimressurss on piiratud ressurss. Moodulis käsitleme te
 emasid\,  mis aitavad mõista miks inimesed käituvad erinevates olukordade
 s erinevalt\,  mis inimesi motiveerib. Moodulis õpime koostama eduka inime
 se profiili ja selle alusel valima endale õigeid[..]\nhttps://www.icc-esto
 nia.ee/events/meeskonna-juhtimine-liikmesfirmalt-prolog/
URL:https://www.icc-estonia.ee/events/meeskonna-juhtimine-liikmesfirmalt-prolog/
END:VEVENT
END:VCALENDAR