BEGIN:VCALENDAR
VERSION:2.0
PRODID:-//eventon.com NONSGML v1.0//EN
CALSCALE:GREGORIAN
METHOD:PUBLISH
BEGIN:VEVENT
UID:69ead6d3b420e
DTSTAMP:20260424T023459Z
DTSTART:20210325
DTEND:20210326
LOCATION:Veebinar
SUMMARY:Tarneklauslid IncotermsÂ® 2020 baaskursus EI2020-9
DESCRIPTION:Tarneklauslid IncotermsÂ® 2020. Baaskursus IncotermsÂ® 2020 on 
 teist aastat kÃ¤igus! Rahvusvahelise Kaubanduskoja ICC egiidi all on tehtud
  Ã¤ra suur tÃ¶Ã¶. Valminud on rahvusvahelise Ã¤ri&nbsp;alusnormi\,  Incoter
 msi uus versioon: IncotermsÂ® 2020. Teiste kÃµrval on panustanud ka ICC Ees
 ti&nbsp;koos oma asutajalikme EMI EWT-ga. Incotermsi uue versiooni avalik Ã
 ¼leilmne tutvustamine algas&nbsp;10. septembril. Uus versioon[..]\nhttps://
 www.icc-estonia.ee/events/tarneklauslid-incoterms-2020-baaskursus-ei2020-9/
URL:https://www.icc-estonia.ee/events/tarneklauslid-incoterms-2020-baaskursus-ei2020-9/
END:VEVENT
END:VCALENDAR