BEGIN:VCALENDAR
VERSION:2.0
PRODID:-//eventon.com NONSGML v1.0//EN
CALSCALE:GREGORIAN
METHOD:PUBLISH
BEGIN:VEVENT
UID:69ed79213e93c
DTSTAMP:20260426T023201Z
DTSTART:20200701
DTEND:20200801
LOCATION:
SUMMARY:Golf ja sidusteenused
DESCRIPTION:&nbsp; &nbsp; &nbsp; &nbsp; &nbsp; &nbsp; &nbsp; &nbsp; Meie li
 ikmete hulgas on ka kaks esinduslikku golfifirmat\,  kus ICC Eesti liikmete
 le pakutakse kõik teenuseid paraja soodustusega (-15%). Peale golfimõnude
  saab mõlemas kohas maitsvalt süüa ning on igati sobivad ruumid firmaür
 ituste korraldamiseks. Pärnus ka mõnus liivarand\,  kus rahvamöllu pole.
 &nbsp; Pärnus on&nbsp;kontaktisik müügi-[..]\nhttps://www.icc-estonia.ee
 /events/golf-ja-sidusteenused/
URL:https://www.icc-estonia.ee/events/golf-ja-sidusteenused/
END:VEVENT
END:VCALENDAR