BEGIN:VCALENDAR
VERSION:2.0
PRODID:-//eventon.com NONSGML v1.0//EN
CALSCALE:GREGORIAN
METHOD:PUBLISH
BEGIN:VEVENT
UID:69ec3b7fa74f5
DTSTAMP:20260425T035647Z
DTSTART:20180926
DTEND:20180927
LOCATION:Helsingi Messikeskus
SUMMARY:Nordic Business Forum 2018
DESCRIPTION:ICC Eesti osaleb tänavu kuuendat korda! Kinnitame\,  et foorum
  on&nbsp;tõusnud maailma ettevõtlusfoorumite tippu. Seegi kord oleme rese
 rveerinud üksikud&nbsp;piletid\,  vt allpool! PS! Hetkel kehtib soodushind
 ! Ülipopulaarseks kasvanud põhjamaade suurimale ärifoorumile koguneb ül
 e 7500 osaleja rohkem kui 40 riigist\,  nende hulgas peaaegu 1000&nbsp;eest
 last! Esinejate näol on tegemist haruldase valikuga maailma tippu kuuluvat
 est[..]\nhttps://www.icc-estonia.ee/events/nordic-business-forum-2018/
URL:https://www.icc-estonia.ee/events/nordic-business-forum-2018/
END:VEVENT
END:VCALENDAR